BEGIN:VCALENDAR
VERSION:2.0
PRODID:-//wp-events-plugin.com//7.2.3.1//EN
TZID:Europe/Berlin
X-WR-TIMEZONE:Europe/Berlin
BEGIN:VEVENT
UID:181@csd-bremen.org
DTSTART;TZID=Europe/Berlin:20250815T190000
DTEND;TZID=Europe/Berlin:20250815T210000
DTSTAMP:20250723T205210Z
URL:https://www.csd-bremen.org/events/aspec-treffen-fuer-alle-menschen-die
 -sich-im-asexuellen-aromantischen-oder-aplatonischen-spektrum-verorten/
SUMMARY:ASPEC - Treffen für alle Menschen\, die sich im asexuellen\, aroma
 ntischen oder aplatonischen Spektrum verorten
DESCRIPTION:Hallo!\nUnser Treffen ist für alle Menschen\, welche sich im a
 sexuellen\, aromantischen oder aplatonischen Spektrum verorten oder sich d
 a noch nicht ganz sicher sind. Es ist ein Raum\, der einlädt\, sich zu Co
 ming Out\, Medialer Repräsentation\, Beziehungen oder was uns sonst noch 
 beschäftigt auszutauschen\, oder auch einfach nur beieinander zu sitzen\,
  zu quatschen und gemeinsam zu lachen.\nZeit: 15.08.2025\, 19 Uhr - ca. 21
  Uhr\nOrt: Dachgeschoss Rat&amp\;Tat-Zentrum Theodor-Körner-Straße 1\n\n
 Falls ihr noch spezielle Fragen oder Wünsche habt\, kontaktiert uns gerne
 . Bitte bleibt bei Erkältungssymtomen zuhause.\n\nHello!\nOur meeting is 
 for all people who are on the asexual\, aromantic or aplatonic spectrum or
  are not quite sure yet. It is a space that invites you to exchange ideas 
 about coming out\, medial representation\, relationships or anything else 
 that's on our mind\, or just to sit\, chat and laugh together.\n\nTime: 15
 .08.2025\, 7 pm - approx. 9 pm\nLocation: Top floor Rat&amp\;Tat-Zentrum\,
  Theodor-Körner-Straße 1\n\nIf you have any special questions or request
 s\, please contact us. Please stay at home if you have cold symptoms.\n\nk
 ontakt@nord-aspecs.de
ATTACH;FMTTYPE=image/jpeg:https://www.csd-bremen.org/wp-content/uploads/20
 25/07/aspec.jpeg
CATEGORIES:Rahmenprogramm 2025
LOCATION:Café KWEER\, Theodor-Körner-Str. 1\, Bremen\, Bremen\, 28203\, B
 remen\, Deutschland
X-APPLE-STRUCTURED-LOCATION;VALUE=URI;X-ADDRESS=Theodor-Körner-Str. 1\, Br
 emen\, Bremen\, 28203\, Bremen\, Deutschland;X-APPLE-RADIUS=100;X-TITLE=Ca
 fé KWEER:geo:0,0
END:VEVENT
BEGIN:VTIMEZONE
TZID:Europe/Berlin
X-LIC-LOCATION:Europe/Berlin
BEGIN:DAYLIGHT
DTSTART:20250330T030000
TZOFFSETFROM:+0100
TZOFFSETTO:+0200
TZNAME:CEST
END:DAYLIGHT
END:VTIMEZONE
END:VCALENDAR