BEGIN:VCALENDAR
VERSION:2.0
PRODID:-//wp-events-plugin.com//7.2.3.1//EN
TZID:Europe/Berlin
X-WR-TIMEZONE:Europe/Berlin
BEGIN:VEVENT
UID:171@csd-bremen.org
DTSTART;TZID=Europe/Berlin:20250813T183000
DTEND;TZID=Europe/Berlin:20250813T210000
DTSTAMP:20250721T113832Z
URL:https://www.csd-bremen.org/events/bunter-mittwoch-pride-buddy-special-
 2025/
SUMMARY:Bunter Mittwoch - Pride Buddy Special
DESCRIPTION:\nWeil niemand allein zum CSD gehen sollte!\nDer CSD Bremen ist
  bunt\, laut – und manchmal auch ganz schön überwältigend. Vor allem\
 , wenn man niemanden hat\, mit dem man hingehen kann. Deshalb haben wir be
 im CSD 2024 bewusst den „Bunten Mittwoch“ als CSD Buddy Special gestal
 tet. Und das kam richtig gut an!\n\nDenn unser Ziel war klar:\nMenschen zu
 sammenbringen\, Einsamkeit überwinden und eine sichere Verbindungen schaf
 fen – damit niemand allein zum CSD muss!\nFür 2025 wollen wir das gleic
 he Prinzip wieder aufleben\, nur unter einem neuen Namen. Wir finden näml
 ich\, dass Pride nicht nur auf einen Monat beschränkt werden soll\, wir f
 eiern einfach drei Monate in Folge PRIDE!\nOb du dich alleine fühlst\, ga
 nz neu in der Community bist oder einfach offen dafür bist\, jemanden in 
 deine Gruppe aufzunehmen: Der Bunte Mittwoch ist genau der Raum\, um einan
 der kennenzulernen\, ins Gespräch zu kommen und gemeinsam Pläne für den
  CSD zu schmieden.\nWie lief das Ganze ab?In entspannter Atmosphäre gab e
 s bei kühlen Getränken und netter Musik Austauschmöglichkeiten und viel
 e offene Herzen. Einige haben sich zu CSD-Buddies verabredet\, andere habe
 n neue Freund*innen gefunden – und alle gingen mit einem stärkeren Wir-
 Gefühl nach Hause.\nUnd jetzt?Wir wollen das Format weiterentwickeln! Der
  CSD soll ein Ort für alle sein – auch für Menschen\, die (noch) niema
 nden haben. Wir sagen: Community bedeutet\, niemanden zurückzulassen.\nSt
 ay tuned für den nächsten Bunten Mittwoch – und sei dabei\, wenn wir w
 ieder zusammenfinden.\nSchau doch mal auf pridemerch.de vorbei und hol dir
  dein Bändchen – vielleicht auch gleich eins für deinen CSD Buddy!Geme
 insam sichtbar\, gemeinsam stark – wir freuen uns auf dich beim CSD Brem
 en 2025!
ATTACH;FMTTYPE=image/jpeg:https://www.csd-bremen.org/wp-content/uploads/20
 25/07/Bunter-Mittwoch-Pride-Buddy-Special.png
CATEGORIES:CSD Bremen 2025,Rahmenprogramm 2025
LOCATION:Café KWEER\, Theodor-Körner-Str. 1\, Bremen\, Bremen\, 28203\, B
 remen\, Deutschland
X-APPLE-STRUCTURED-LOCATION;VALUE=URI;X-ADDRESS=Theodor-Körner-Str. 1\, Br
 emen\, Bremen\, 28203\, Bremen\, Deutschland;X-APPLE-RADIUS=100;X-TITLE=Ca
 fé KWEER:geo:0,0
END:VEVENT
BEGIN:VTIMEZONE
TZID:Europe/Berlin
X-LIC-LOCATION:Europe/Berlin
BEGIN:DAYLIGHT
DTSTART:20250330T030000
TZOFFSETFROM:+0100
TZOFFSETTO:+0200
TZNAME:CEST
END:DAYLIGHT
END:VTIMEZONE
END:VCALENDAR