BEGIN:VCALENDAR
VERSION:2.0
PRODID:-//wp-events-plugin.com//7.2.3.1//EN
TZID:Europe/Berlin
X-WR-TIMEZONE:Europe/Berlin
BEGIN:VEVENT
UID:177@csd-bremen.org
DTSTART;TZID=Europe/Berlin:20250823T110000
DTEND;TZID=Europe/Berlin:20250823T114500
DTSTAMP:20250723T153148Z
URL:https://www.csd-bremen.org/events/oekumenischer-gottesdienst-zum-csd-b
 remen/
SUMMARY:Ökumenischer Gottesdienst zum CSD Bremen
DESCRIPTION:Zum CSD Bremen findet auch dieses Jahr ein ökumenischer Gottes
 dienst statt! Dieses Jahr steht er unter dem Titel "Von Angesicht zu Ange
 sicht". Dabei steht der Segen im Zentrum: Wir hören die Geschichte von
  Jakob\, der eine Nacht lang mit einem Unbekannten ringt - um am Schluss v
 on ihm einen neuen Namen zu bekommen und gesegnet zu werden. Womit ringen\
 , womit kämpfen wir? Und wann spüren wir\, dass wir gesegnet sind? Damit
  wollen wir uns gemeinsam beschäftigen. Der Gottesdienst findet um 11 
 Uhr in der Kirche Unser Lieben Frauen statt. Es gibt eine Dolmetschung i
 n Deutsche Gebärdensprache. Alle\, die mögen\, sind herzlich eingeladen\
 ,  direkt nach dem Gottesdienst mit unserer angemeldeten Gruppe "queer "
 love" christlich" zur Demonstration zu gehen.\n\nWeitere Fragen an: glei
 chstellung@kirche-bremen.de
ATTACH;FMTTYPE=image/jpeg:https://www.csd-bremen.org/wp-content/uploads/20
 25/07/Postkarte-Vorderseite.jpg
CATEGORIES:Rahmenprogramm 2025
LOCATION:Kirche Unser Lieben Frauen\, Kirchhof 27\, Bremen\, Bremen\, 28195
 \, Bremen\, Deutschland
X-APPLE-STRUCTURED-LOCATION;VALUE=URI;X-ADDRESS=Kirchhof 27\, Bremen\, Brem
 en\, 28195\, Bremen\, Deutschland;X-APPLE-RADIUS=100;X-TITLE=Kirche Unser 
 Lieben Frauen:geo:0,0
END:VEVENT
BEGIN:VTIMEZONE
TZID:Europe/Berlin
X-LIC-LOCATION:Europe/Berlin
BEGIN:DAYLIGHT
DTSTART:20250330T030000
TZOFFSETFROM:+0100
TZOFFSETTO:+0200
TZNAME:CEST
END:DAYLIGHT
END:VTIMEZONE
END:VCALENDAR