BEGIN:VCALENDAR
VERSION:2.0
PRODID:-//wp-events-plugin.com//7.2.3.1//EN
TZID:Europe/Berlin
X-WR-TIMEZONE:Europe/Berlin
BEGIN:VEVENT
UID:175@csd-bremen.org
DTSTART;TZID=Europe/Berlin:20250814T180000
DTEND;TZID=Europe/Berlin:20250814T220000
DTSTAMP:20250723T151418Z
URL:https://www.csd-bremen.org/events/queer-together/
SUMMARY:Queer Together
DESCRIPTION:Diese Gruppe ist für queere Erwachsene im Alter von 18 bis 35 
 Jahren gedacht. Sie kann ein Ort für Menschen sein\, die vorher bei der q
 ueeren Jugendgruppe waren\, ist aber auch offen für neue Leute.\n\nWir m
 öchten einen Raum für queere Menschen schaffen\, in dem wir über unsere
  Erfahrungen sprechen\, uns gegenseitig unterstützen und füreinander da 
 sein können. Wir können Ausflüge\, Spiel- und Filmabende planen oder lo
 ckere Treffen\, um uns in einem entspannten Rahmen zu vernetzen - je nachd
 em\, worauf die Gruppe gerade Lust hat. Wir möchten uns auch mit queerer 
 Geschichte beschäftigen und gemeinsam an Demonstrationen wie zum Beispiel
  dem Christopher Street Day teilnehmen.\nAm 14.08.2025 möchten wir an uns
 eren CSD Plakate weiter arbeiten und uns für die weitere CSD Planung besp
 rechen.\n\nWir treffen uns jeden 2. und 4. Donnerstag im Monat von 18:00 b
 is maximal 22:00 Uhr im Café KWEER im Rat&amp\;Tat-Zentrum.
ATTACH;FMTTYPE=image/jpeg:https://www.csd-bremen.org/wp-content/uploads/20
 25/07/Queer-Together_14.08._18-22-1.jpg
CATEGORIES:Rahmenprogramm 2025
LOCATION:Café KWEER\, Theodor-Körner-Str. 1\, Bremen\, Bremen\, 28203\, B
 remen\, Deutschland
X-APPLE-STRUCTURED-LOCATION;VALUE=URI;X-ADDRESS=Theodor-Körner-Str. 1\, Br
 emen\, Bremen\, 28203\, Bremen\, Deutschland;X-APPLE-RADIUS=100;X-TITLE=Ca
 fé KWEER:geo:0,0
END:VEVENT
BEGIN:VTIMEZONE
TZID:Europe/Berlin
X-LIC-LOCATION:Europe/Berlin
BEGIN:DAYLIGHT
DTSTART:20250330T030000
TZOFFSETFROM:+0100
TZOFFSETTO:+0200
TZNAME:CEST
END:DAYLIGHT
END:VTIMEZONE
END:VCALENDAR