BEGIN:VCALENDAR
VERSION:2.0
PRODID:-//wp-events-plugin.com//7.2.3.1//EN
TZID:Europe/Berlin
X-WR-TIMEZONE:Europe/Berlin
BEGIN:VEVENT
UID:180@csd-bremen.org
DTSTART;TZID=Europe/Berlin:20250823T110000
DTEND;TZID=Europe/Berlin:20250823T120000
DTSTAMP:20250728T123324Z
URL:https://www.csd-bremen.org/events/wissen-um-11-queeres-leben-unter-was
 ser-mit-dr-simon-jungblut/
SUMMARY:Wissen um 11 - Queeres Leben unter Wasser mit Dr. Simon Jungblut
DESCRIPTION:Person: Dr. Simon Jungblut\n\nInstitution: Marine Zoologie\, Un
 iversität Bremen &amp\; Naturwissenschaftlicher Verein zu Bremen\n\n\n\nM
 ail: jungblut[at]uni-bremen.de\n\nTitel: Queeres Leben unter Wasser\n\nZur
  Person\nSimon Jungblut ist promovierter Meereszoologe und wissenschaftlic
 her Mitarbeiter an der Universität Bremen. Seine Forschungsinteressen lie
 gen in der Ökologie und Ökophysiologie von Seeigeln und Krebstieren\, ab
 er auch an anderen Meerestieren und Algen. Neben der Forschung ist Jungblu
 t im Naturwissenschaftlichen Verein zu Bremen engagiert und organisiert me
 ereswissenschaftliche Nachwuchskonferenzen\, Vortragsabende und weiteren 
 öffentlichen Forschungstransfer.\n\nZum Vortrag\nAnlässlich zur großen 
 Demonstration zum Christopher Street Day in Bremen wird der Meereszoologe 
 Dr. Simon Jungblut einen Überblick zur Diversität von Beziehungen bei Me
 erestieren geben. Von schwulen Pinguinen\, bisexuellen Delfinen\, asexuell
 en Krebstieren bis hin zu genderfluiden Clownfischen - dem Menschen sehr 
 ähnlich ist auch im Meer das ganze Spektrum an Möglichkeiten vorhanden. 
 Das diskriminierungsfreie Zusammenleben im Meer unterstreicht die Natürli
 chkeit der sexuellen Diversität\, die man auch beim Menschen vorfindet.\n
 Haus der Wissenschaft\nOlbers-Saal | OG | 11 Uhr\nEintritt frei
ATTACH;FMTTYPE=image/jpeg:https://www.csd-bremen.org/wp-content/uploads/20
 25/07/20250823_Wissen-um-11_Simon-Jungblut_3_imageBROKER.com-Reinhard-Dirs
 cherl-1-scaled.jpg
CATEGORIES:Rahmenprogramm 2025
LOCATION:Haus der Wissenschaft\, Sandstraße 4/5\, Bremen\, 28195\, Deutsch
 land
X-APPLE-STRUCTURED-LOCATION;VALUE=URI;X-ADDRESS=Sandstraße 4/5\, Bremen\, 
 28195\, Deutschland;X-APPLE-RADIUS=100;X-TITLE=Haus der Wissenschaft:geo:0
 ,0
END:VEVENT
BEGIN:VTIMEZONE
TZID:Europe/Berlin
X-LIC-LOCATION:Europe/Berlin
BEGIN:DAYLIGHT
DTSTART:20250330T030000
TZOFFSETFROM:+0100
TZOFFSETTO:+0200
TZNAME:CEST
END:DAYLIGHT
END:VTIMEZONE
END:VCALENDAR